Workbook

Sheet Sheet1
A1: 외국인 등록 현황
A2: 인천광역시 남구 2018.05.31.
A3: 구분 | B3: 인구수 | E3: 전월대비 인구증감
B4: 계 | C4: 남 | D4: 여
A5: 계 | B5: =SUM(C5,D5) -> 8550 | C5: =SUM(C6:C26) -> 4286 | D5: =SUM(D6:D26) -> 4264 | E5: =B5-Sheet5!B5 -> -15
A6: 숭의1.3동 | B6: =SUM(C6:D6) -> 289 | C6: 134 | D6: 155 | E6: =B6-Sheet5!B6 -> 5
A7: 숭의2동 | B7: =SUM(C7:D7) -> 343 | C7: 140 | D7: 203 | E7: =B7-Sheet5!B7 -> 15
A8: 숭의4동 | B8: =SUM(C8:D8) -> 301 | C8: 123 | D8: 178 | E8: =B8-Sheet5!B8 -> 11
A9: 용현1.4동 | B9: =SUM(C9:D9) -> 1803 | C9: 925 | D9: 878 | E9: =B9-Sheet5!B9 -> -16
A10: 용현2동 | B10: =SUM(C10:D10) -> 210 | C10: 93 | D10: 117 | E10: =B10-Sheet5!B10 -> -4
A11: 용현3동 | B11: =SUM(C11:D11) -> 184 | C11: 86 | D11: 98 | E11: =B11-Sheet5!B11 -> 1
A12: 용현5동 | B12: =SUM(C12:D12) -> 498 | C12: 267 | D12: 231 | E12: =B12-Sheet5!B12 -> 16
A13: 학익1동 | B13: =SUM(C13:D13) -> 459 | C13: 181 | D13: 278 | E13: =B13-Sheet5!B13 -> -5
A14: 학익2동 | B14: =SUM(C14:D14) -> 145 | C14: 77 | D14: 68 | E14: =B14-Sheet5!B14 -> -2
A15: 도화1동 | B15: =SUM(C15:D15) -> 564 | C15: 309 | D15: 255 | E15: =B15-Sheet5!B15 -> -6
A16: 도화2.3동 | B16: =SUM(C16:D16) -> 646 | C16: 436 | D16: 210 | E16: =B16-Sheet5!B16 -> -2
A17: 주안1동 | B17: =SUM(C17:D17) -> 737 | C17: 363 | D17: 374 | E17: =B17-Sheet5!B17 -> -13
... A26: 문학동 | B26: =SUM(C26:D26) -> 164 | C26: 74 | D26: 90 | E26: =B26-Sheet5!B26 -> 1

Sheet Sheet2
A5: 8332
A6: 321
A7: 252
A8: 297
A9: 1668
A10: 222
A11: 188
A12: 485
A13: 415
A14: 148
A15: 565
A16: 637
... A26: 167

Sheet Sheet3

Sheet Sheet4
A1: 외국인 등록 현황
A2: 인천광역시 남구 2018.03.31.
A3: 구분 | B3: 인구수 | E3: 전월대비 인구증감
B4: 계 | C4: 남 | D4: 여
A5: 계 | B5: =SUM(B6:B26) -> 8602 | C5: =SUM(C6:C26) -> 4313 | D5: =SUM(D6:D26) -> 4289 | E5: =B5-[1]Sheet2!A5 -> 270
A6: 숭의1.3동 | B6: =SUM(C6:D6) -> 270 | C6: 125 | D6: 145 | E6: =B6-[1]Sheet2!A6 -> -51
A7: 숭의2동 | B7: =SUM(C7:D7) -> 320 | C7: 124 | D7: 196 | E7: =B7-[1]Sheet2!A7 -> 68
A8: 숭의4동 | B8: =SUM(C8:D8) -> 296 | C8: 125 | D8: 171 | E8: =B8-[1]Sheet2!A8 -> -1
A9: 용현1.4동 | B9: =SUM(C9:D9) -> 1856 | C9: 951 | D9: 905 | E9: =B9-[1]Sheet2!A9 -> 188
A10: 용현2동 | B10: =SUM(C10:D10) -> 220 | C10: 96 | D10: 124 | E10: =B10-[1]Sheet2!A10 -> -2
A11: 용현3동 | B11: =SUM(C11:D11) -> 183 | C11: 84 | D11: 99 | E11: =B11-[1]Sheet2!A11 -> -5
A12: 용현5동 | B12: =SUM(C12:D12) -> 484 | C12: 265 | D12: 219 | E12: =B12-[1]Sheet2!A12 -> -1
A13: 학익1동 | B13: =SUM(C13:D13) -> 484 | C13: 186 | D13: 298 | E13: =B13-[1]Sheet2!A13 -> 69
A14: 학익2동 | B14: =SUM(C14:D14) -> 148 | C14: 78 | D14: 70 | E14: =B14-[1]Sheet2!A14 -> 0
A15: 도화1동 | B15: =SUM(C15:D15) -> 558 | C15: 303 | D15: 255 | E15: =B15-[1]Sheet2!A15 -> -7
A16: 도화2.3동 | B16: =SUM(C16:D16) -> 640 | C16: 435 | D16: 205 | E16: =B16-[1]Sheet2!A16 -> 3
A17: 주안1동 | B17: =SUM(C17:D17) -> 742 | C17: 374 | D17: 368 | E17: =B17-[1]Sheet2!A17 -> 5
... A26: 문학동 | B26: =SUM(C26:D26) -> 166 | C26: 74 | D26: 92 | E26: =B26-[1]Sheet2!A26 -> -1

Sheet Sheet5
A1: 외국인 등록 현황
A2: 인천광역시 남구 2018.04.30.
A3: 구분 | B3: 인구수 | E3: 전월대비 인구증감
B4: 계 | C4: 남 | D4: 여
A5: 계 | B5: 8565 | C5: 4297 | D5: 4268 | E5: =B5-[2]Sheet4!B5 -> -37
A6: 숭의1.3동 | B6: =SUM(C6:D6) -> 284 | C6: 132 | D6: 152 | E6: =B6-[2]Sheet4!B6 -> 14
A7: 숭의2동 | B7: =SUM(C7:D7) -> 328 | C7: 132 | D7: 196 | E7: =B7-[2]Sheet4!B7 -> 8
A8: 숭의4동 | B8: =SUM(C8:D8) -> 290 | C8: 120 | D8: 170 | E8: =B8-[2]Sheet4!B8 -> -6
A9: 용현1.4동 | B9: =SUM(C9:D9) -> 1819 | C9: 930 | D9: 889 | E9: =B9-[2]Sheet4!B9 -> -37
A10: 용현2동 | B10: =SUM(C10:D10) -> 214 | C10: 94 | D10: 120 | E10: =B10-[2]Sheet4!B10 -> -6
A11: 용현3동 | B11: =SUM(C11:D11) -> 183 | C11: 83 | D11: 100 | E11: =B11-[2]Sheet4!B11 -> 0
A12: 용현5동 | B12: =SUM(C12:D12) -> 482 | C12: 260 | D12: 222 | E12: =B12-[2]Sheet4!B12 -> -2
A13: 학익1동 | B13: =SUM(C13:D13) -> 464 | C13: 182 | D13: 282 | E13: =B13-[2]Sheet4!B13 -> -20
A14: 학익2동 | B14: =SUM(C14:D14) -> 147 | C14: 79 | D14: 68 | E14: =B14-[2]Sheet4!B14 -> -1
A15: 도화1동 | B15: =SUM(C15:D15) -> 570 | C15: 313 | D15: 257 | E15: =B15-[2]Sheet4!B15 -> 12
A16: 도화2.3동 | B16: =SUM(C16:D16) -> 648 | C16: 439 | D16: 209 | E16: =B16-[2]Sheet4!B16 -> 8
A17: 주안1동 | B17: =SUM(C17:D17) -> 750 | C17: 371 | D17: 379 | E17: =B17-[2]Sheet4!B17 -> 8
... A26: 문학동 | B26: =SUM(C26:D26) -> 163 | C26: 72 | D26: 91 | E26: =B26-[2]Sheet4!B26 -> -3
